BEGIN:VCALENDAR
VERSION:2.0
PRODID:-//Baach aktiv - ECPv6.15.20//NONSGML v1.0//EN
CALSCALE:GREGORIAN
METHOD:PUBLISH
X-ORIGINAL-URL:https://baach-aktiv.de
X-WR-CALDESC:Veranstaltungen für Baach aktiv
REFRESH-INTERVAL;VALUE=DURATION:PT1H
X-Robots-Tag:noindex
X-PUBLISHED-TTL:PT1H
BEGIN:VTIMEZONE
TZID:Europe/Berlin
BEGIN:DAYLIGHT
TZOFFSETFROM:+0100
TZOFFSETTO:+0200
TZNAME:CEST
DTSTART:20210328T010000
END:DAYLIGHT
BEGIN:STANDARD
TZOFFSETFROM:+0200
TZOFFSETTO:+0100
TZNAME:CET
DTSTART:20211031T010000
END:STANDARD
BEGIN:DAYLIGHT
TZOFFSETFROM:+0100
TZOFFSETTO:+0200
TZNAME:CEST
DTSTART:20220327T010000
END:DAYLIGHT
BEGIN:STANDARD
TZOFFSETFROM:+0200
TZOFFSETTO:+0100
TZNAME:CET
DTSTART:20221030T010000
END:STANDARD
BEGIN:DAYLIGHT
TZOFFSETFROM:+0100
TZOFFSETTO:+0200
TZNAME:CEST
DTSTART:20230326T010000
END:DAYLIGHT
BEGIN:STANDARD
TZOFFSETFROM:+0200
TZOFFSETTO:+0100
TZNAME:CET
DTSTART:20231029T010000
END:STANDARD
BEGIN:DAYLIGHT
TZOFFSETFROM:+0100
TZOFFSETTO:+0200
TZNAME:CEST
DTSTART:20240331T010000
END:DAYLIGHT
BEGIN:STANDARD
TZOFFSETFROM:+0200
TZOFFSETTO:+0100
TZNAME:CET
DTSTART:20241027T010000
END:STANDARD
END:VTIMEZONE
BEGIN:VEVENT
DTSTART;TZID=Europe/Berlin:20230521T143000
DTEND;TZID=Europe/Berlin:20230521T173000
DTSTAMP:20260422T110715
CREATED:20210919T130000Z
LAST-MODIFIED:20230514T143357Z
UID:6993-1684679400-1684690200@baach-aktiv.de
SUMMARY:4. Baacher Sonntagscafé
DESCRIPTION:Wir laden Euch herzlich ein! \nBei unserem 4. Baacher Sonntagscafé könnt Ihr alte und neue Nachbarn treffen\, schwätzen und bei Kaffee und Kuchen den Nachmittag genießen. Je nach Wetterlage treffen wir uns im Rathaus-Hof oder in der Baacher Stube. \nEs wäre schön\, wenn ein paar Baacher*innen mithelfen könnten oder einen Kuchen spenden. Bitte tragt Euch doch auf unserer Online-Liste ein\, damit wir den Überblick behalten: https://nuudel.digitalcourage.de/QZ1LEdKoDcgbqsM6 \nWir freuen uns auf Euren Besuch\,Eure Baacher Dorfgemeinschaft \n 
URL:https://baach-aktiv.de/veranstaltung/4-baacher-sonntagscafe/
LOCATION:Altes Schul- und Rathaus\, Baach\, Baacher Hauptstraße 23\, Winnenden\, BW\, 71364
ATTACH;FMTTYPE=image/jpeg:https://baach-aktiv.de/wp-content/uploads/2021/09/Sonntagscafe-Baach.jpg
END:VEVENT
BEGIN:VEVENT
DTSTART;TZID=Europe/Berlin:20221021T190000
DTEND;TZID=Europe/Berlin:20221021T223000
DTSTAMP:20260422T110715
CREATED:20221021T170000Z
LAST-MODIFIED:20230219T135136Z
UID:7311-1666378800-1666391400@baach-aktiv.de
SUMMARY:Baach meets World: USA
DESCRIPTION:Baach ist ein idyllisches Fleckchen – wir wohnen dort\, wo andere Urlaub machen. Und doch sind die Baacher ein neugieriges\, reiselustiges Völkchen\, das sich gerne auf den Weg macht\, um die Welt zu erkunden. «Baach meets World» heißt die neue Veranstaltungsreihe der Baacher Dorfgemeinschaft\, bei der Baacherinnen und Baacher von ihren Abenteuern in fernen Ländern berichten und uns dabei mit auf eine visuelle und kulinarische Reise nehmen.\n\nLos geht’s mit einer Tour durch die USA. Michael Dettenmaier erzählt von seinem Roadtrip\, von dem er erst vor wenigen Wochen zurückgekehrt ist.\n\nNatürlich dürfen auch landestypische Speisen nicht fehlen … lasst Euch überraschen!\n\nAufgrund der begrenzten Plätze ist eine Reservierung erforderlich. Wir freuen uns auf Euren Besuch!
URL:https://baach-aktiv.de/veranstaltung/baach-meets-world-usa/
LOCATION:Altes Schul- und Rathaus\, Baach\, Baacher Hauptstraße 23\, Winnenden\, BW\, 71364
ATTACH;FMTTYPE=image/jpeg:https://baach-aktiv.de/wp-content/uploads/2022/09/usa-flagge.jpg
END:VEVENT
BEGIN:VEVENT
DTSTART;TZID=Europe/Berlin:20221027T193000
DTEND;TZID=Europe/Berlin:20221027T193000
DTSTAMP:20260422T110715
CREATED:20220930T142448Z
LAST-MODIFIED:20220930T142448Z
UID:7308-1666899000-1666899000@baach-aktiv.de
SUMMARY:Skat lernen
DESCRIPTION:Endlich ist es soweit – Bernd Kräwer führt uns in die hohe Kunst des Skatspiels ein. Neu- und Wiedereinsteiger sind ebenso willkommen wie erfahrene Spieler!
URL:https://baach-aktiv.de/veranstaltung/skat-lernen/
LOCATION:Altes Schul- und Rathaus\, Baach\, Baacher Hauptstraße 23\, Winnenden\, BW\, 71364
ATTACH;FMTTYPE=image/jpeg:https://baach-aktiv.de/wp-content/uploads/2022/09/skat-runde.jpg
END:VEVENT
END:VCALENDAR