BEGIN:VCALENDAR
VERSION:2.0
PRODID:-//Baach aktiv - ECPv6.15.20//NONSGML v1.0//EN
CALSCALE:GREGORIAN
METHOD:PUBLISH
X-ORIGINAL-URL:https://baach-aktiv.de
X-WR-CALDESC:Veranstaltungen für Baach aktiv
REFRESH-INTERVAL;VALUE=DURATION:PT1H
X-Robots-Tag:noindex
X-PUBLISHED-TTL:PT1H
BEGIN:VTIMEZONE
TZID:Europe/Berlin
BEGIN:DAYLIGHT
TZOFFSETFROM:+0100
TZOFFSETTO:+0200
TZNAME:CEST
DTSTART:20200329T010000
END:DAYLIGHT
BEGIN:STANDARD
TZOFFSETFROM:+0200
TZOFFSETTO:+0100
TZNAME:CET
DTSTART:20201025T010000
END:STANDARD
BEGIN:DAYLIGHT
TZOFFSETFROM:+0100
TZOFFSETTO:+0200
TZNAME:CEST
DTSTART:20210328T010000
END:DAYLIGHT
BEGIN:STANDARD
TZOFFSETFROM:+0200
TZOFFSETTO:+0100
TZNAME:CET
DTSTART:20211031T010000
END:STANDARD
BEGIN:DAYLIGHT
TZOFFSETFROM:+0100
TZOFFSETTO:+0200
TZNAME:CEST
DTSTART:20220327T010000
END:DAYLIGHT
BEGIN:STANDARD
TZOFFSETFROM:+0200
TZOFFSETTO:+0100
TZNAME:CET
DTSTART:20221030T010000
END:STANDARD
END:VTIMEZONE
BEGIN:VEVENT
DTSTART;TZID=Europe/Berlin:20211105T190000
DTEND;TZID=Europe/Berlin:20211105T213000
DTSTAMP:20260423T055216
CREATED:20211105T180000Z
LAST-MODIFIED:20211017T164452Z
UID:7036-1636138800-1636147800@baach-aktiv.de
SUMMARY:Gesellige Weinverkostung
DESCRIPTION:Wir freuen uns auf einen interessanten Abend in lockerer Atmosphäre bei unserer ersten Weinverkostung mit dem Weingut Siegloch: Unter der fachkundigen Moderation von David Siegloch probieren wir uns durch das vielseitige Repertoire der beiden Winnender Jung-Winzer. Und damit niemand hungrig nach Hause wanken muss\, sorgt die Baacher Dorfgemeinschaft für ein zünftiges Vesper! \nAufgrund der begrenzten Platzzahl ist eine Reservierung notwendig (siehe unten).\nFür diese Veranstaltung gilt die 2G-Regelung\, bitte denkt daran\, Euren Impf- oder Genesenen-Nachweis mitzubringen. \nPreis: 29 Euro / Person \n  \nInformationen zum Weingut Siegloch:\nDie beiden Brüder David und Markus Siegloch haben 2014\, nach dem frühen Tod des Vaters Peter Siegloch das Weingut in Winnenden übernommen.\nVon Anfang an hatten die Brüder eine klare Vorstellung vom Weinmachen: Die Weichen für ihre Weine werden im Weinberg gestellt\, im Keller versuchen sie\, den Weg von den Trauben zum fertigen Wein nur noch zu begleiten. Mit Spontangärung und dem Verzicht von Schönungen darf sich der Wein so entwickeln\, wie er im Weinberg gewachsen ist. Auch im Weinberg versuchen Sieglochs\, möglichst mit und nicht gegen die natürlichen Voraussetzungen zu arbeiten. Darum dürfen die Begrünungen auch mal etwas höher zwischen den Rebzeilen wachsen und auch bei den Reben versuchen die beiden\, möglichst wenig und spät in das natürliche Wachstum einzugreifen. Besonders wichtig ist ihnen der Faktor Zeit. Die Weine kommen erst dann auf die Flasche\, wenn sie mit der Qualität so zufrieden sind\, dass der Wein ohne große Geschmackskorrekturen abgefüllt werden können. \nSo entstehen lebendige Weine\, die ihre Geschichte von dem Jahrgang\, von dem Boden auf dem sie wachsen und von den Winzern\, die sie auf ihrem Weg begleitet haben\, erzählen. Vom trinkig-frischen Rose bis zum komplexen Rotwein aus dem Barrique bietet das Weingut Siegloch eine hohe Vielseitigkeit.
URL:https://baach-aktiv.de/veranstaltung/gesellige-weinverkostung/
LOCATION:Altes Schul- und Rathaus\, Baach\, Baacher Hauptstraße 23\, Winnenden\, BW\, 71364
ATTACH;FMTTYPE=image/jpeg:https://baach-aktiv.de/wp-content/uploads/2021/10/weinprobe-siegloch.jpg
END:VEVENT
BEGIN:VEVENT
DTSTART;TZID=Europe/Berlin:20211108T193000
DTEND;TZID=Europe/Berlin:20211108T210000
DTSTAMP:20260423T055216
CREATED:20211108T183000Z
LAST-MODIFIED:20211026T202822Z
UID:7087-1636399800-1636405200@baach-aktiv.de
SUMMARY:Strickgruppe
DESCRIPTION:Für alle Strickfans und die\, die es noch werden möchten!\nDer nächste Termin unserer Strickgruppe  ist der 8.11. ab 19.30 Uhr. Jetzt\, da die Abende wieder länger werden\, wollen wir uns regelmäßig im Baacher Rathaus treffen. Stricken\, sich kennenlernen\, Erfahrungen und Techniken austauschen und weitergeben – wer z.b. schon immer lernen wollte wie man 🧦 strickt\, ist hier bestens aufgehoben. Wir freuen uns auf schöne gemeinsame Abende 🧶
URL:https://baach-aktiv.de/veranstaltung/strickgruppe/
LOCATION:Altes Schul- und Rathaus\, Baach\, Baacher Hauptstraße 23\, Winnenden\, BW\, 71364
ATTACH;FMTTYPE=image/jpeg:https://baach-aktiv.de/wp-content/uploads/2021/10/Stricken-in-Baach.jpg
END:VEVENT
BEGIN:VEVENT
DTSTART;TZID=Europe/Berlin:20211110T193000
DTEND;TZID=Europe/Berlin:20211110T213000
DTSTAMP:20260423T055216
CREATED:20211110T183000Z
LAST-MODIFIED:20211013T161729Z
UID:7049-1636572600-1636579800@baach-aktiv.de
SUMMARY:Neuere Baacher Geschichte(n)
DESCRIPTION:Kurt Bihlmaier nimmt uns mit auf eine spannende Reise in die jüngere Vergangenheit unseres Örtchens. In seinem bebilderten Vortrag beschreibt Kurt die Dorf-Entwicklung und geht auf denkwürdige Ereignisse von 1950 bis heute ein.\nFreut Euch mit uns auf einen informativen und unterhaltsamen Abend! \nAufgrund der begrenzten Platzzahl ist eine Reservierung erbeten (siehe unten). \nEintritt (Heizgeld): 2\,– EUR.
URL:https://baach-aktiv.de/veranstaltung/neuere-baacher-geschichten/
LOCATION:Altes Schul- und Rathaus\, Baach\, Baacher Hauptstraße 23\, Winnenden\, BW\, 71364
ATTACH;FMTTYPE=image/jpeg:https://baach-aktiv.de/wp-content/uploads/2021/11/baachergeschichten.jpg
END:VEVENT
END:VCALENDAR