BEGIN:VCALENDAR
VERSION:2.0
PRODID:-//Baach aktiv - ECPv6.15.20//NONSGML v1.0//EN
CALSCALE:GREGORIAN
METHOD:PUBLISH
X-WR-CALNAME:Baach aktiv
X-ORIGINAL-URL:https://baach-aktiv.de
X-WR-CALDESC:Veranstaltungen für Baach aktiv
REFRESH-INTERVAL;VALUE=DURATION:PT1H
X-Robots-Tag:noindex
X-PUBLISHED-TTL:PT1H
BEGIN:VTIMEZONE
TZID:Europe/Berlin
BEGIN:DAYLIGHT
TZOFFSETFROM:+0100
TZOFFSETTO:+0200
TZNAME:CEST
DTSTART:20190331T010000
END:DAYLIGHT
BEGIN:STANDARD
TZOFFSETFROM:+0200
TZOFFSETTO:+0100
TZNAME:CET
DTSTART:20191027T010000
END:STANDARD
BEGIN:DAYLIGHT
TZOFFSETFROM:+0100
TZOFFSETTO:+0200
TZNAME:CEST
DTSTART:20200329T010000
END:DAYLIGHT
BEGIN:STANDARD
TZOFFSETFROM:+0200
TZOFFSETTO:+0100
TZNAME:CET
DTSTART:20201025T010000
END:STANDARD
BEGIN:DAYLIGHT
TZOFFSETFROM:+0100
TZOFFSETTO:+0200
TZNAME:CEST
DTSTART:20210328T010000
END:DAYLIGHT
BEGIN:STANDARD
TZOFFSETFROM:+0200
TZOFFSETTO:+0100
TZNAME:CET
DTSTART:20211031T010000
END:STANDARD
END:VTIMEZONE
BEGIN:VEVENT
DTSTART;TZID=Europe/Berlin:20201212T090000
DTEND;TZID=Europe/Berlin:20201212T120000
DTSTAMP:20260424T011926
CREATED:20201205T070000Z
LAST-MODIFIED:20201205T065206Z
UID:6328-1607763600-1607774400@baach-aktiv.de
SUMMARY:Baach ausmisteln!
DESCRIPTION:Männer und Frauen mit Sägen gesucht!\nGemeinsame Aktion der OGVs und des BUND \n„Viele Misteln sind des Baumes Tod“\, könnte man in Abwandlung eines bekannten Sprichworts sagen! Um einem weiteren Baumsterben der wertvollen und landschaftsprägenden Streuobstbäume entgegen zu wirken\, ist es wichtig\, dass wir dieser Plage gemeinsam entgegentreten. \nWinnenden\, Berglen und Leutenbach planen Mistel-Aktionen\, sodass ein großflächiges\, gutes Ergebnis erzielt wird. Da wollen wir uns als Baacher natürlich nicht lumpen lassen! \nAlle Obstbaumbesitzer sollten in diesem die Misteln von ihren Bäumen entfernen. Betroffen sind vor allem Apfelbäume. Dabei werden befallene Äste 20 – 50 cm vor der Mistel abgesägt. Bei dickeren Ästen und vor allem bei Leitästen empfiehlt sich der sogenannte V-Schnitt um den Baum nicht zu schwächen. \n\nKarl Bauer erklärt den V-Schnitt (ab Minute 2:45)\nAls Baacher Dorfgemeinschaft wollen wir Baumbesitzer unterstützen\, die sich dem Thema nicht selbst annehmen können oder möchten. \nWer macht mit?\nSchritt 1\nMistelbäume erkunden\, Eigentümer ansprechen\, ob sie selbst Hand anlegen wollen oder Unterstützung brauchen. Wo kein Eigentümer bekannt ist werden Flurkarten bereitgestellt und die Stadt ermittelt den Eigentümer. \nBitte meldet uns Eure Mistelbäume am besten mit genauer Ortsbeschreibung und den Kontaktdaten des Besitzers unter: aktionen@baach-aktiv.de \nSchritt 2\nAn einem Samstag zwischen 8 und 12 misteln wir in Baach aus! Es empfehlen sich Zweierteams mit Schlepper oder PKW mit Anhänger\, Leiter\, Baumsäge\, Hochentaster wenn vorhanden. In einer gemeinsamen Aktion befreien wir die Baacher Obstbäume von den Misteln und entsorgen diese auf der Winnender Deponie. \nSchritt 3\nCa. 12.30 Uhr: Gemeinsame Stärkung am Dorfbrunnen.
URL:https://baach-aktiv.de/veranstaltung/baach-ausmisteln/
LOCATION:Baach
ATTACH;FMTTYPE=image/jpeg:https://baach-aktiv.de/wp-content/uploads/2020/11/mistelaktion-scaled.jpg
END:VEVENT
END:VCALENDAR