BEGIN:VCALENDAR
VERSION:2.0
PRODID:-//Baach aktiv - ECPv6.15.20//NONSGML v1.0//EN
CALSCALE:GREGORIAN
METHOD:PUBLISH
X-WR-CALNAME:Baach aktiv
X-ORIGINAL-URL:https://baach-aktiv.de
X-WR-CALDESC:Veranstaltungen für Baach aktiv
REFRESH-INTERVAL;VALUE=DURATION:PT1H
X-Robots-Tag:noindex
X-PUBLISHED-TTL:PT1H
BEGIN:VTIMEZONE
TZID:Europe/Berlin
BEGIN:DAYLIGHT
TZOFFSETFROM:+0100
TZOFFSETTO:+0200
TZNAME:CEST
DTSTART:20220327T010000
END:DAYLIGHT
BEGIN:STANDARD
TZOFFSETFROM:+0200
TZOFFSETTO:+0100
TZNAME:CET
DTSTART:20221030T010000
END:STANDARD
BEGIN:DAYLIGHT
TZOFFSETFROM:+0100
TZOFFSETTO:+0200
TZNAME:CEST
DTSTART:20230326T010000
END:DAYLIGHT
BEGIN:STANDARD
TZOFFSETFROM:+0200
TZOFFSETTO:+0100
TZNAME:CET
DTSTART:20231029T010000
END:STANDARD
BEGIN:DAYLIGHT
TZOFFSETFROM:+0100
TZOFFSETTO:+0200
TZNAME:CEST
DTSTART:20240331T010000
END:DAYLIGHT
BEGIN:STANDARD
TZOFFSETFROM:+0200
TZOFFSETTO:+0100
TZNAME:CET
DTSTART:20241027T010000
END:STANDARD
END:VTIMEZONE
BEGIN:VEVENT
DTSTART;TZID=Europe/Berlin:20231112T170000
DTEND;TZID=Europe/Berlin:20231112T183000
DTSTAMP:20260421T133717
CREATED:20221111T161500Z
LAST-MODIFIED:20231020T105001Z
UID:7045-1699808400-1699813800@baach-aktiv.de
SUMMARY:Laternenumzug
DESCRIPTION:Martinsumzug mit Laternen für kleine und große Kinder \nIn diesem Jahr veranstalten wir am 12. November einen Laternenumzug durch Baach. Treffpunkt ist am Backhäusle. Los geht es um 17.00 Uhr. Die Route führt etwa 20–30 Minuten am Friedhof vorbei aus Baach raus und endet dann wieder am Dorfbrunnen/Backhäusle. Die ganz Kleinen lassen sich am besten fahren oder tragen oder kürzen die Route am Friedhof über die kleine Brücke ab. Am Brunnen gibt es (nach dem Lauf) warmen Kinderpunsch und  Glühwein zum Aufwärmen. Bitte bringt eigene Becher mit! \nWer ein Instrument spielen kann\, darf es gerne mitbringen und bei unserem Zwischenhalt die Sängerinnen und Sänger begleiten. \nDie Liedtexte zum Üben findet Ihr hier: Martinslieder
URL:https://baach-aktiv.de/veranstaltung/laternenumzug/
LOCATION:Kindergarten Baach\, In der Au 7\, Baach\, 71364\, Deutschland
ATTACH;FMTTYPE=image/jpeg:https://baach-aktiv.de/wp-content/uploads/2021/10/Martinsumzug-Laternenlauf-Baach.jpg
END:VEVENT
END:VCALENDAR