BEGIN:VCALENDAR
VERSION:2.0
PRODID:-//Baach aktiv - ECPv6.15.20//NONSGML v1.0//EN
CALSCALE:GREGORIAN
METHOD:PUBLISH
X-WR-CALNAME:Baach aktiv
X-ORIGINAL-URL:https://baach-aktiv.de
X-WR-CALDESC:Veranstaltungen für Baach aktiv
REFRESH-INTERVAL;VALUE=DURATION:PT1H
X-Robots-Tag:noindex
X-PUBLISHED-TTL:PT1H
BEGIN:VTIMEZONE
TZID:Europe/Berlin
BEGIN:DAYLIGHT
TZOFFSETFROM:+0100
TZOFFSETTO:+0200
TZNAME:CEST
DTSTART:20220327T010000
END:DAYLIGHT
BEGIN:STANDARD
TZOFFSETFROM:+0200
TZOFFSETTO:+0100
TZNAME:CET
DTSTART:20221030T010000
END:STANDARD
BEGIN:DAYLIGHT
TZOFFSETFROM:+0100
TZOFFSETTO:+0200
TZNAME:CEST
DTSTART:20230326T010000
END:DAYLIGHT
BEGIN:STANDARD
TZOFFSETFROM:+0200
TZOFFSETTO:+0100
TZNAME:CET
DTSTART:20231029T010000
END:STANDARD
BEGIN:DAYLIGHT
TZOFFSETFROM:+0100
TZOFFSETTO:+0200
TZNAME:CEST
DTSTART:20240331T010000
END:DAYLIGHT
BEGIN:STANDARD
TZOFFSETFROM:+0200
TZOFFSETTO:+0100
TZNAME:CET
DTSTART:20241027T010000
END:STANDARD
END:VTIMEZONE
BEGIN:VEVENT
DTSTART;TZID=Europe/Berlin:20231031T183000
DTEND;TZID=Europe/Berlin:20231031T210000
DTSTAMP:20260421T151210
CREATED:20221031T160000Z
LAST-MODIFIED:20231020T104642Z
UID:7363-1698777000-1698786000@baach-aktiv.de
SUMMARY:Happy Halloween in Baach
DESCRIPTION:Seit ein paar Jahren ist der Halloween-Trend auch bei uns in Baach angekommen und Grüppchen von Kindern ziehen von Haus zu Haus\, um die Bewohner in Angst und Schrecken zu versetzen – oder ein paar Süßigkeiten abzustauben. Aber warum sollen nur die Kinder ihren Spaß haben? Darum laden wir Euch auch dieses Jahr wieder ein zu unserer schaurig-schönen Halloween-Party am Dorfbrunnen. Kleine und große Gruselgeister sind herzlich willkommen. \nAls kleine Aufwärmung (und damit niemand Süßigkeiten auf leeren Magen essen muss) gibt es diesmal leckere Kürbissuppe. Und natürlich Punsch und Glühwein 😉Bringt Euch bitte Löffel\, Schüsseln und Tassen mit!
URL:https://baach-aktiv.de/veranstaltung/happy-halloween-in-baach/
LOCATION:Backhäusle/Dorfbrunnen\, Baacher Hauptstraße 41\, Baach
ATTACH;FMTTYPE=image/jpeg:https://baach-aktiv.de/wp-content/uploads/2022/10/halloweenbaach.jpg
END:VEVENT
END:VCALENDAR