BEGIN:VCALENDAR
VERSION:2.0
PRODID:-//Baach aktiv - ECPv6.15.20//NONSGML v1.0//EN
CALSCALE:GREGORIAN
METHOD:PUBLISH
X-WR-CALNAME:Baach aktiv
X-ORIGINAL-URL:https://baach-aktiv.de
X-WR-CALDESC:Veranstaltungen für Baach aktiv
REFRESH-INTERVAL;VALUE=DURATION:PT1H
X-Robots-Tag:noindex
X-PUBLISHED-TTL:PT1H
BEGIN:VTIMEZONE
TZID:Europe/Berlin
BEGIN:DAYLIGHT
TZOFFSETFROM:+0100
TZOFFSETTO:+0200
TZNAME:CEST
DTSTART:20220327T010000
END:DAYLIGHT
BEGIN:STANDARD
TZOFFSETFROM:+0200
TZOFFSETTO:+0100
TZNAME:CET
DTSTART:20221030T010000
END:STANDARD
BEGIN:DAYLIGHT
TZOFFSETFROM:+0100
TZOFFSETTO:+0200
TZNAME:CEST
DTSTART:20230326T010000
END:DAYLIGHT
BEGIN:STANDARD
TZOFFSETFROM:+0200
TZOFFSETTO:+0100
TZNAME:CET
DTSTART:20231029T010000
END:STANDARD
BEGIN:DAYLIGHT
TZOFFSETFROM:+0100
TZOFFSETTO:+0200
TZNAME:CEST
DTSTART:20240331T010000
END:DAYLIGHT
BEGIN:STANDARD
TZOFFSETFROM:+0200
TZOFFSETTO:+0100
TZNAME:CET
DTSTART:20241027T010000
END:STANDARD
END:VTIMEZONE
BEGIN:VEVENT
DTSTART;TZID=Europe/Berlin:20230826T100000
DTEND;TZID=Europe/Berlin:20230826T130000
DTSTAMP:20260421T194412
CREATED:20230708T161044Z
LAST-MODIFIED:20230708T162943Z
UID:7731-1693044000-1693054800@baach-aktiv.de
SUMMARY:Biertisch-Aktion
DESCRIPTION:Gemeinschafts-Experiment! Bitte mitmachen! \n\n\n\nSchon mit der Gründung der Baacher Dorfgemeinschaft kam die Idee auf\, gemeinsam alte Biertisch-Garnituren aufzuhübschen. Wir wissen nicht\, wie viele ältere und neuere Biertisch-Garnituren in Euren Kellern\, Schuppen und Garagen stehen. Aber wir vermuten\, dass es einige sind 🙂 Wir denken uns die Aktion so: Ihr bringt Eure alten Biertische und -bänke mit (oder sagt uns\, wo wir sie abholen sollen). Wer Lust und Zeit hat (oder uns trotzdem unterstützen will) hilft uns dabei\, die Garnituren abzuschleifen\, gegebenenfalls zu reparieren und sie dann einheitlich neu zu streichen.  \n\n\n\nMöglichkeit 1: Ihr nehmt Eure Garnituren anschließend wieder mit nach Hause (und lasst eine kleine Spende für den Verein da) \n\n\n\nMöglichkeit 2: Ihr überlasst die Garnituren dem Verein und freut Euch bei den nächsten Festen in Baach darüber\, dass der Ort jetzt so schöne\, eigene Biertische und Bänke hat 🙂 \n\n\n\n \n\n\n\nUnser Ziel ist es\, dass wir einen tollen\, aktiven Tag zusammen erleben und im Idealfall nachher 15 einheitliche Garnituren im Verein bleiben\, die wir für Feste nutzen und die unsere Mitglieder selbst für Feste ausleihen können. \n\n\n\nDamit wir planen können wäre es toll\, wenn Ihr uns kurz Bescheid gebt\, mit wie vielen Tischen und Bänken wir rechnen dürfen und ob wir sie bei Euch abholen sollen. \n\n\n\nFehler: Kontaktformular wurde nicht gefunden.
URL:https://baach-aktiv.de/veranstaltung/biertisch-aktion/
LOCATION:Backhäusle/Dorfbrunnen\, Baacher Hauptstraße 41\, Baach
ATTACH;FMTTYPE=image/jpeg:https://baach-aktiv.de/wp-content/uploads/2023/07/Biertisch-Aktion.jpg
END:VEVENT
END:VCALENDAR