BEGIN:VCALENDAR
VERSION:2.0
PRODID:-//Baach aktiv - ECPv6.15.20//NONSGML v1.0//EN
CALSCALE:GREGORIAN
METHOD:PUBLISH
X-WR-CALNAME:Baach aktiv
X-ORIGINAL-URL:https://baach-aktiv.de
X-WR-CALDESC:Veranstaltungen für Baach aktiv
REFRESH-INTERVAL;VALUE=DURATION:PT1H
X-Robots-Tag:noindex
X-PUBLISHED-TTL:PT1H
BEGIN:VTIMEZONE
TZID:Europe/Berlin
BEGIN:DAYLIGHT
TZOFFSETFROM:+0100
TZOFFSETTO:+0200
TZNAME:CEST
DTSTART:20220327T010000
END:DAYLIGHT
BEGIN:STANDARD
TZOFFSETFROM:+0200
TZOFFSETTO:+0100
TZNAME:CET
DTSTART:20221030T010000
END:STANDARD
BEGIN:DAYLIGHT
TZOFFSETFROM:+0100
TZOFFSETTO:+0200
TZNAME:CEST
DTSTART:20230326T010000
END:DAYLIGHT
BEGIN:STANDARD
TZOFFSETFROM:+0200
TZOFFSETTO:+0100
TZNAME:CET
DTSTART:20231029T010000
END:STANDARD
BEGIN:DAYLIGHT
TZOFFSETFROM:+0100
TZOFFSETTO:+0200
TZNAME:CEST
DTSTART:20240331T010000
END:DAYLIGHT
BEGIN:STANDARD
TZOFFSETFROM:+0200
TZOFFSETTO:+0100
TZNAME:CET
DTSTART:20241027T010000
END:STANDARD
END:VTIMEZONE
BEGIN:VEVENT
DTSTART;TZID=Europe/Berlin:20230819T100000
DTEND;TZID=Europe/Berlin:20230819T180000
DTSTAMP:20260421T194331
CREATED:20230708T153720Z
LAST-MODIFIED:20230815T053318Z
UID:7719-1692439200-1692468000@baach-aktiv.de
SUMMARY:Abgesagt! Ausflug zur Berg Brauerei
DESCRIPTION:ACHTUNG. LEIDER HABEN WIR DIE MINDESTTEILNEHMERZAHL NICHT ERREICHT. DER AUSFLUG FINDET NICHT STATT. \n\n\n\nWer schon einmal auf einer unserer Veranstaltungen war\, hat vielleicht ein süffiges Ulrichsbier aus der Bügelflasche bei uns probiert. Es ist kein Geheimnis\, dass die Vorstände der Baacher Dorfgemeinschaft seit langem Berg-Bier-Fans sind.  \n\n\n\nAm 19. August wollen wir gemeinsam mit Euch auskundschaften\, wo das Bier gebraut wird und was es in der Berg Brauerei sonst noch für Biersorten gibt. Darum laden wir Euch herzlich zu einem vergnüglichen Ausflug nach Ehingen (bissle hinter Ulm) ein! \n\n\n\nKleiner Werbeblock 😉\n\n\n\nBRAUKUNST SEIT ÜBER 550 JAHRENDie Geschichte der Berg Brauerei reicht bis ins Jahr 1466 zurück. Dieser langen Tradition fühlt sich der Familienbetrieb verbunden. Deshalb pflegt er die handwerkliche Braukunst bis heute\, mit charaktervollen Bieren\, die einfach besser schmecken. \n\n\n\nMit Beate und Uli Zimmermann ist bereits die neunte Generation am Werk. Maria Anna und Cyriakus Zimmermann haben die Braustätte 1757 übernommen und damit die Ära der Zimmermanns in Berg begründet. Kaum eine andere Brauerei im Land kann auf eine so lange Tradition zurückblicken. Ein reicher Erfahrungsschatz\, den man auch schmeckt: Bis heute arbeitet die Berg Brauerei mit aufwändigen\, traditionellen Brauweisen. Davon können sich Besucher bei Führungen\, BierBrauKursen\, Bierverkostungen und anderen Veranstaltungen selbst überzeugen. \n\n\n\n \n\n\n\n\n\n\n\nAblauf\n\n\n\n10.00 UhrAbfahrt im gemütlichen Baacher Reisebus (natürlich fahren wir mit blueline tours!)Treffpunkt ist am Backhäusle in BaachunterwegsPicknick am Rastplatz13.00 UhrBrauereiführung in der Berg Brauerei Ehingenmit einem Freibier – auch alkoholfrei (0.5 l)anschließendVergnügliche Runde in der Brauereiwirtschaft.Mehr Bier und leckeres Essen – nach eigenem Ermessen 😉ca. 16 UhrRückfahrt nach Baach\n\n\n\nHinweis: Die Fahrt findet ab 25 Teilnehmern statt!
URL:https://baach-aktiv.de/veranstaltung/ausflug-zur-brauerei-berg/
LOCATION:Backhäusle/Dorfbrunnen\, Baacher Hauptstraße 41\, Baach
ATTACH;FMTTYPE=image/jpeg:https://baach-aktiv.de/wp-content/uploads/2023/07/Auflug-Brauerei-Berg.jpg
END:VEVENT
END:VCALENDAR