BEGIN:VCALENDAR
VERSION:2.0
PRODID:-//Baach aktiv - ECPv6.15.20//NONSGML v1.0//EN
CALSCALE:GREGORIAN
METHOD:PUBLISH
X-WR-CALNAME:Baach aktiv
X-ORIGINAL-URL:https://baach-aktiv.de
X-WR-CALDESC:Veranstaltungen für Baach aktiv
REFRESH-INTERVAL;VALUE=DURATION:PT1H
X-Robots-Tag:noindex
X-PUBLISHED-TTL:PT1H
BEGIN:VTIMEZONE
TZID:Europe/Berlin
BEGIN:DAYLIGHT
TZOFFSETFROM:+0100
TZOFFSETTO:+0200
TZNAME:CEST
DTSTART:20220327T010000
END:DAYLIGHT
BEGIN:STANDARD
TZOFFSETFROM:+0200
TZOFFSETTO:+0100
TZNAME:CET
DTSTART:20221030T010000
END:STANDARD
BEGIN:DAYLIGHT
TZOFFSETFROM:+0100
TZOFFSETTO:+0200
TZNAME:CEST
DTSTART:20230326T010000
END:DAYLIGHT
BEGIN:STANDARD
TZOFFSETFROM:+0200
TZOFFSETTO:+0100
TZNAME:CET
DTSTART:20231029T010000
END:STANDARD
BEGIN:DAYLIGHT
TZOFFSETFROM:+0100
TZOFFSETTO:+0200
TZNAME:CEST
DTSTART:20240331T010000
END:DAYLIGHT
BEGIN:STANDARD
TZOFFSETFROM:+0200
TZOFFSETTO:+0100
TZNAME:CET
DTSTART:20241027T010000
END:STANDARD
END:VTIMEZONE
BEGIN:VEVENT
DTSTART;TZID=Europe/Berlin:20231114T150000
DTEND;TZID=Europe/Berlin:20231114T170000
DTSTAMP:20260422T072613
CREATED:20231111T132350Z
LAST-MODIFIED:20231111T132357Z
UID:7389-1699974000-1699981200@baach-aktiv.de
SUMMARY:Kinder-Spiele-Nachmittag
DESCRIPTION:Drinnen Spaß haben wenns draußen kalt wird!Über die Wintermonate findet dienstags ein Spiele-Nachmittag für Kinder zwischen 2 und 5 Jahren statt. Organisiert wird der Spiele-Nachmittag von Selma Jankovski. Los geht’s ab dem 7. November bis voraussichtlich März. Weitere Spielkinder sind herzlich willkommen. \nDienstags 15 – 17 Uhr im Baacher Rathaus \nKinder nur in Begleitung Erwachsener
URL:https://baach-aktiv.de/veranstaltung/kinder-spiele-nachmittag/
LOCATION:Altes Schul- und Rathaus\, Baach\, Baacher Hauptstraße 23\, Winnenden\, BW\, 71364
ATTACH;FMTTYPE=image/jpeg:https://baach-aktiv.de/wp-content/uploads/2022/11/Spielenachmittag_1-1.jpg
ORGANIZER;CN="Selma Jankovski":MAILTO:selma.jankovski@gmx.net
END:VEVENT
BEGIN:VEVENT
DTSTART;TZID=Europe/Berlin:20230113T193000
DTEND;TZID=Europe/Berlin:20230113T213000
DTSTAMP:20260422T072613
CREATED:20230103T222352Z
LAST-MODIFIED:20230103T222352Z
UID:7464-1673638200-1673645400@baach-aktiv.de
SUMMARY:Bau-Ausschuss Gruppenbildung
DESCRIPTION:Wie auf der Mitgliederversammlung beschlossen\, laden wir alle interessierten Mitglieder zum Treffen des Bau-Ausschusses ein. An diesem Termin möchten wir Arbeitsgruppen mit je einem Sprecher bilden\, die in den darauffolgenden Wochen die verschiedenen Optionen für Gemeinschaftsräume für die Baacher Bürgerinnen und Bürger prüfen und ausarbeiten. \n 
URL:https://baach-aktiv.de/veranstaltung/bau-ausschuss-gruppenbildung/
LOCATION:Altes Schul- und Rathaus\, Baach\, Baacher Hauptstraße 23\, Winnenden\, BW\, 71364
ATTACH;FMTTYPE=image/jpeg:https://baach-aktiv.de/wp-content/uploads/2020/12/Rathaus2.jpg
END:VEVENT
END:VCALENDAR