BEGIN:VCALENDAR
VERSION:2.0
PRODID:-//Baach aktiv - ECPv6.15.20//NONSGML v1.0//EN
CALSCALE:GREGORIAN
METHOD:PUBLISH
X-WR-CALNAME:Baach aktiv
X-ORIGINAL-URL:https://baach-aktiv.de
X-WR-CALDESC:Veranstaltungen für Baach aktiv
REFRESH-INTERVAL;VALUE=DURATION:PT1H
X-Robots-Tag:noindex
X-PUBLISHED-TTL:PT1H
BEGIN:VTIMEZONE
TZID:Europe/Berlin
BEGIN:DAYLIGHT
TZOFFSETFROM:+0100
TZOFFSETTO:+0200
TZNAME:CEST
DTSTART:20210328T010000
END:DAYLIGHT
BEGIN:STANDARD
TZOFFSETFROM:+0200
TZOFFSETTO:+0100
TZNAME:CET
DTSTART:20211031T010000
END:STANDARD
BEGIN:DAYLIGHT
TZOFFSETFROM:+0100
TZOFFSETTO:+0200
TZNAME:CEST
DTSTART:20220327T010000
END:DAYLIGHT
BEGIN:STANDARD
TZOFFSETFROM:+0200
TZOFFSETTO:+0100
TZNAME:CET
DTSTART:20221030T010000
END:STANDARD
BEGIN:DAYLIGHT
TZOFFSETFROM:+0100
TZOFFSETTO:+0200
TZNAME:CEST
DTSTART:20230326T010000
END:DAYLIGHT
BEGIN:STANDARD
TZOFFSETFROM:+0200
TZOFFSETTO:+0100
TZNAME:CET
DTSTART:20231029T010000
END:STANDARD
END:VTIMEZONE
BEGIN:VEVENT
DTSTART;TZID=Europe/Berlin:20221021T190000
DTEND;TZID=Europe/Berlin:20221021T223000
DTSTAMP:20260422T122804
CREATED:20221021T170000Z
LAST-MODIFIED:20230219T135136Z
UID:7311-1666378800-1666391400@baach-aktiv.de
SUMMARY:Baach meets World: USA
DESCRIPTION:Baach ist ein idyllisches Fleckchen – wir wohnen dort\, wo andere Urlaub machen. Und doch sind die Baacher ein neugieriges\, reiselustiges Völkchen\, das sich gerne auf den Weg macht\, um die Welt zu erkunden. «Baach meets World» heißt die neue Veranstaltungsreihe der Baacher Dorfgemeinschaft\, bei der Baacherinnen und Baacher von ihren Abenteuern in fernen Ländern berichten und uns dabei mit auf eine visuelle und kulinarische Reise nehmen.\n\nLos geht’s mit einer Tour durch die USA. Michael Dettenmaier erzählt von seinem Roadtrip\, von dem er erst vor wenigen Wochen zurückgekehrt ist.\n\nNatürlich dürfen auch landestypische Speisen nicht fehlen … lasst Euch überraschen!\n\nAufgrund der begrenzten Plätze ist eine Reservierung erforderlich. Wir freuen uns auf Euren Besuch!
URL:https://baach-aktiv.de/veranstaltung/baach-meets-world-usa/
LOCATION:Altes Schul- und Rathaus\, Baach\, Baacher Hauptstraße 23\, Winnenden\, BW\, 71364
ATTACH;FMTTYPE=image/jpeg:https://baach-aktiv.de/wp-content/uploads/2022/09/usa-flagge.jpg
END:VEVENT
END:VCALENDAR