BEGIN:VCALENDAR
VERSION:2.0
PRODID:-//Baach aktiv - ECPv6.15.20//NONSGML v1.0//EN
CALSCALE:GREGORIAN
METHOD:PUBLISH
X-WR-CALNAME:Baach aktiv
X-ORIGINAL-URL:https://baach-aktiv.de
X-WR-CALDESC:Veranstaltungen für Baach aktiv
REFRESH-INTERVAL;VALUE=DURATION:PT1H
X-Robots-Tag:noindex
X-PUBLISHED-TTL:PT1H
BEGIN:VTIMEZONE
TZID:Europe/Berlin
BEGIN:DAYLIGHT
TZOFFSETFROM:+0100
TZOFFSETTO:+0200
TZNAME:CEST
DTSTART:20210328T010000
END:DAYLIGHT
BEGIN:STANDARD
TZOFFSETFROM:+0200
TZOFFSETTO:+0100
TZNAME:CET
DTSTART:20211031T010000
END:STANDARD
BEGIN:DAYLIGHT
TZOFFSETFROM:+0100
TZOFFSETTO:+0200
TZNAME:CEST
DTSTART:20220327T010000
END:DAYLIGHT
BEGIN:STANDARD
TZOFFSETFROM:+0200
TZOFFSETTO:+0100
TZNAME:CET
DTSTART:20221030T010000
END:STANDARD
BEGIN:DAYLIGHT
TZOFFSETFROM:+0100
TZOFFSETTO:+0200
TZNAME:CEST
DTSTART:20230326T010000
END:DAYLIGHT
BEGIN:STANDARD
TZOFFSETFROM:+0200
TZOFFSETTO:+0100
TZNAME:CET
DTSTART:20231029T010000
END:STANDARD
END:VTIMEZONE
BEGIN:VEVENT
DTSTART;TZID=Europe/Berlin:20220626T100000
DTEND;TZID=Europe/Berlin:20220626T180000
DTSTAMP:20260422T211128
CREATED:20220626T080000Z
LAST-MODIFIED:20220616T151611Z
UID:7238-1656237600-1656266400@baach-aktiv.de
SUMMARY:Mini-Baachetse
DESCRIPTION:In diesem Sommer findet zum ersten Mal seit vielen Jahren wieder ein Fest in Baach statt! Nach der langen Pause starten wir in diesem Jahr erst einmal klein\, mit einem eintägigen Straßenfest rund um die Baacher Dorfmitte. Wir nennen das Fest „Mini-Baachetse“ – denn den Salzkuchen der „Baacher Bachetse“ gibt’s bereits am Tag davor bei der Backhäusle-Tour! \nBei unserer Mini-Baachetse erwarten Euch dafür lauter nette Baacherinnen und Baacher\, es wird gegrillt\, gequatscht\, es gibt Kaffee und Kuchen\, einen Kinderflohmarkt und eine Aufführung der Baacher Kinderballettgruppe. \nLos geht’s um 10 Uhr mit einem gediegenen Weißwurstfrühstück mit Brezeln und Weißbier. \nAb 12 Uhr gibt es Wurst vom Grill – natürlich auch vegetarisch! Dazu den beliebten Rettich und Schmalzbrote. Wer wer es lieber süß mag\, wird sich über die leckeren\, selbst gemachten Kuchen freuen. Dazu gibt’s köstliche Winnender Weine und spitzige Cocktails an unserer Bar. \nFür Jüngeren planen wir den traditionellen Baachetse-Kinder-Flohmarkt und ein großes\, buntes Straßengemälde.
URL:https://baach-aktiv.de/veranstaltung/baacher-baachetsele/
LOCATION:Backhäusle/Dorfbrunnen\, Baacher Hauptstraße 41\, Baach
ATTACH;FMTTYPE=image/jpeg:https://baach-aktiv.de/wp-content/uploads/2022/04/Baachets-Motiv.jpg
END:VEVENT
END:VCALENDAR